BEGIN:VCALENDAR
VERSION:2.0
PRODID:https://github.com/derhansen/sf_event_mgt
METHOD:PUBLISH
BEGIN:VEVENT
UID:1089-79@www.sfp.ch
CLASS: PUBLIC
SUMMARY:Anlegerversammlung der SFP Anlagestiftung
DESCRIPTION:Event-Seite öffnen: https://www.sfp.ch/event/anlegerversammlung-2026-der-sfp-anlagestiftung 
DTSTART:20260506T140000Z
DTEND:20260506T170000Z
END:VEVENT
END:VCALENDAR
